BEGIN:VCALENDAR
VERSION:2.0
PRODID:-//Walton Priory - ECPv6.15.17//NONSGML v1.0//EN
CALSCALE:GREGORIAN
METHOD:PUBLISH
X-WR-CALNAME:Walton Priory
X-ORIGINAL-URL:https://www.waltonpriory.staffs.sch.uk
X-WR-CALDESC:Events for Walton Priory
REFRESH-INTERVAL;VALUE=DURATION:PT1H
X-Robots-Tag:noindex
X-PUBLISHED-TTL:PT1H
BEGIN:VTIMEZONE
TZID:Europe/London
BEGIN:DAYLIGHT
TZOFFSETFROM:+0000
TZOFFSETTO:+0100
TZNAME:BST
DTSTART:20230326T010000
END:DAYLIGHT
BEGIN:STANDARD
TZOFFSETFROM:+0100
TZOFFSETTO:+0000
TZNAME:GMT
DTSTART:20231029T010000
END:STANDARD
BEGIN:DAYLIGHT
TZOFFSETFROM:+0000
TZOFFSETTO:+0100
TZNAME:BST
DTSTART:20240331T010000
END:DAYLIGHT
BEGIN:STANDARD
TZOFFSETFROM:+0100
TZOFFSETTO:+0000
TZNAME:GMT
DTSTART:20241027T010000
END:STANDARD
BEGIN:DAYLIGHT
TZOFFSETFROM:+0000
TZOFFSETTO:+0100
TZNAME:BST
DTSTART:20250330T010000
END:DAYLIGHT
BEGIN:STANDARD
TZOFFSETFROM:+0100
TZOFFSETTO:+0000
TZNAME:GMT
DTSTART:20251026T010000
END:STANDARD
END:VTIMEZONE
BEGIN:VEVENT
DTSTART;TZID=Europe/London:20240909T080000
DTEND;TZID=Europe/London:20241025T083000
DTSTAMP:20260423T112143
CREATED:20240924T141431Z
LAST-MODIFIED:20240924T141818Z
UID:12337-1725868800-1729845000@www.waltonpriory.staffs.sch.uk
SUMMARY:Rise and Dine Club
DESCRIPTION:
URL:https://www.waltonpriory.staffs.sch.uk/event/rise-and-dine-club/
END:VEVENT
BEGIN:VEVENT
DTSTART;TZID=Europe/London:20241022T090000
DTEND;TZID=Europe/London:20241022T100000
DTSTAMP:20260423T112143
CREATED:20241001T083600Z
LAST-MODIFIED:20241001T083601Z
UID:12404-1729587600-1729591200@www.waltonpriory.staffs.sch.uk
SUMMARY:Y6 Library Visit - 6AS
DESCRIPTION:
URL:https://www.waltonpriory.staffs.sch.uk/event/y6-library-visit-6as/
END:VEVENT
END:VCALENDAR