BEGIN:VCALENDAR
VERSION:2.0
PRODID:-//Walton Priory - ECPv6.15.17//NONSGML v1.0//EN
CALSCALE:GREGORIAN
METHOD:PUBLISH
X-WR-CALNAME:Walton Priory
X-ORIGINAL-URL:https://www.waltonpriory.staffs.sch.uk
X-WR-CALDESC:Events for Walton Priory
REFRESH-INTERVAL;VALUE=DURATION:PT1H
X-Robots-Tag:noindex
X-PUBLISHED-TTL:PT1H
BEGIN:VTIMEZONE
TZID:Europe/London
BEGIN:DAYLIGHT
TZOFFSETFROM:+0000
TZOFFSETTO:+0100
TZNAME:BST
DTSTART:20230326T010000
END:DAYLIGHT
BEGIN:STANDARD
TZOFFSETFROM:+0100
TZOFFSETTO:+0000
TZNAME:GMT
DTSTART:20231029T010000
END:STANDARD
BEGIN:DAYLIGHT
TZOFFSETFROM:+0000
TZOFFSETTO:+0100
TZNAME:BST
DTSTART:20240331T010000
END:DAYLIGHT
BEGIN:STANDARD
TZOFFSETFROM:+0100
TZOFFSETTO:+0000
TZNAME:GMT
DTSTART:20241027T010000
END:STANDARD
BEGIN:DAYLIGHT
TZOFFSETFROM:+0000
TZOFFSETTO:+0100
TZNAME:BST
DTSTART:20250330T010000
END:DAYLIGHT
BEGIN:STANDARD
TZOFFSETFROM:+0100
TZOFFSETTO:+0000
TZNAME:GMT
DTSTART:20251026T010000
END:STANDARD
END:VTIMEZONE
BEGIN:VEVENT
DTSTART;TZID=Europe/London:20241111T000000
DTEND;TZID=Europe/London:20241115T235959
DTSTAMP:20260423T030944
CREATED:20241114T091620Z
LAST-MODIFIED:20241114T091622Z
UID:12591-1731283200-1731715199@www.waltonpriory.staffs.sch.uk
SUMMARY:Anti Bullying Week
DESCRIPTION:
URL:https://www.waltonpriory.staffs.sch.uk/event/anti-bullying-week/
END:VEVENT
BEGIN:VEVENT
DTSTART;TZID=Europe/London:20241112T000000
DTEND;TZID=Europe/London:20241112T235959
DTSTAMP:20260423T030944
CREATED:20241114T091719Z
LAST-MODIFIED:20241114T091720Z
UID:12593-1731369600-1731455999@www.waltonpriory.staffs.sch.uk
SUMMARY:Wear Odd Socks Day
DESCRIPTION:
URL:https://www.waltonpriory.staffs.sch.uk/event/wear-odd-socks-day/
END:VEVENT
BEGIN:VEVENT
DTSTART;TZID=Europe/London:20241112T153000
DTEND;TZID=Europe/London:20241112T180000
DTSTAMP:20260423T030944
CREATED:20241025T121219Z
LAST-MODIFIED:20241025T121220Z
UID:12556-1731425400-1731434400@www.waltonpriory.staffs.sch.uk
SUMMARY:Y6 & Y8 Parents' Evening
DESCRIPTION:
URL:https://www.waltonpriory.staffs.sch.uk/event/y6-y8-parents-evening-3/
END:VEVENT
END:VCALENDAR