BEGIN:VCALENDAR
VERSION:2.0
PRODID:-//Walton Priory - ECPv6.15.17//NONSGML v1.0//EN
CALSCALE:GREGORIAN
METHOD:PUBLISH
X-WR-CALNAME:Walton Priory
X-ORIGINAL-URL:https://www.waltonpriory.staffs.sch.uk
X-WR-CALDESC:Events for Walton Priory
REFRESH-INTERVAL;VALUE=DURATION:PT1H
X-Robots-Tag:noindex
X-PUBLISHED-TTL:PT1H
BEGIN:VTIMEZONE
TZID:Europe/London
BEGIN:DAYLIGHT
TZOFFSETFROM:+0000
TZOFFSETTO:+0100
TZNAME:BST
DTSTART:20240331T010000
END:DAYLIGHT
BEGIN:STANDARD
TZOFFSETFROM:+0100
TZOFFSETTO:+0000
TZNAME:GMT
DTSTART:20241027T010000
END:STANDARD
BEGIN:DAYLIGHT
TZOFFSETFROM:+0000
TZOFFSETTO:+0100
TZNAME:BST
DTSTART:20250330T010000
END:DAYLIGHT
BEGIN:STANDARD
TZOFFSETFROM:+0100
TZOFFSETTO:+0000
TZNAME:GMT
DTSTART:20251026T010000
END:STANDARD
BEGIN:DAYLIGHT
TZOFFSETFROM:+0000
TZOFFSETTO:+0100
TZNAME:BST
DTSTART:20260329T010000
END:DAYLIGHT
BEGIN:STANDARD
TZOFFSETFROM:+0100
TZOFFSETTO:+0000
TZNAME:GMT
DTSTART:20261025T010000
END:STANDARD
END:VTIMEZONE
BEGIN:VEVENT
DTSTART;TZID=Europe/London:20250207T000000
DTEND;TZID=Europe/London:20250207T235959
DTSTAMP:20260422T230346
CREATED:20250129T153906Z
LAST-MODIFIED:20250129T153908Z
UID:12737-1738886400-1738972799@www.waltonpriory.staffs.sch.uk
SUMMARY:Y6 SEND Coffee Afternoon
DESCRIPTION:
URL:https://www.waltonpriory.staffs.sch.uk/event/y6-send-coffee-afternoon/
END:VEVENT
END:VCALENDAR