BEGIN:VCALENDAR
VERSION:2.0
PRODID:-//Walton Priory - ECPv6.15.17//NONSGML v1.0//EN
CALSCALE:GREGORIAN
METHOD:PUBLISH
X-ORIGINAL-URL:https://www.waltonpriory.staffs.sch.uk
X-WR-CALDESC:Events for Walton Priory
REFRESH-INTERVAL;VALUE=DURATION:PT1H
X-Robots-Tag:noindex
X-PUBLISHED-TTL:PT1H
BEGIN:VTIMEZONE
TZID:Europe/London
BEGIN:DAYLIGHT
TZOFFSETFROM:+0000
TZOFFSETTO:+0100
TZNAME:BST
DTSTART:20240331T010000
END:DAYLIGHT
BEGIN:STANDARD
TZOFFSETFROM:+0100
TZOFFSETTO:+0000
TZNAME:GMT
DTSTART:20241027T010000
END:STANDARD
BEGIN:DAYLIGHT
TZOFFSETFROM:+0000
TZOFFSETTO:+0100
TZNAME:BST
DTSTART:20250330T010000
END:DAYLIGHT
BEGIN:STANDARD
TZOFFSETFROM:+0100
TZOFFSETTO:+0000
TZNAME:GMT
DTSTART:20251026T010000
END:STANDARD
BEGIN:DAYLIGHT
TZOFFSETFROM:+0000
TZOFFSETTO:+0100
TZNAME:BST
DTSTART:20260329T010000
END:DAYLIGHT
BEGIN:STANDARD
TZOFFSETFROM:+0100
TZOFFSETTO:+0000
TZNAME:GMT
DTSTART:20261025T010000
END:STANDARD
END:VTIMEZONE
BEGIN:VEVENT
DTSTART;TZID=Europe/London:20250225T000000
DTEND;TZID=Europe/London:20250225T235959
DTSTAMP:20260422T213234
CREATED:20250129T152905Z
LAST-MODIFIED:20250129T152906Z
UID:12724-1740441600-1740527999@www.waltonpriory.staffs.sch.uk
SUMMARY:Y6 Geography Workshop - Volcanoes
DESCRIPTION:
URL:https://www.waltonpriory.staffs.sch.uk/event/y6-geography-workshop-volcanoes/
END:VEVENT
BEGIN:VEVENT
DTSTART;TZID=Europe/London:20250225T153000
DTEND;TZID=Europe/London:20250225T163000
DTSTAMP:20260422T213234
CREATED:20250207T122805Z
LAST-MODIFIED:20250207T123010Z
UID:12856-1740497400-1740501000@www.waltonpriory.staffs.sch.uk
SUMMARY:Wider Family Learning KS2 Workshop
DESCRIPTION:
URL:https://www.waltonpriory.staffs.sch.uk/event/wider-family-learning-ks2-workshop/
END:VEVENT
END:VCALENDAR