BEGIN:VCALENDAR
VERSION:2.0
PRODID:-//Walton Priory - ECPv6.15.17//NONSGML v1.0//EN
CALSCALE:GREGORIAN
METHOD:PUBLISH
X-WR-CALNAME:Walton Priory
X-ORIGINAL-URL:https://www.waltonpriory.staffs.sch.uk
X-WR-CALDESC:Events for Walton Priory
REFRESH-INTERVAL;VALUE=DURATION:PT1H
X-Robots-Tag:noindex
X-PUBLISHED-TTL:PT1H
BEGIN:VTIMEZONE
TZID:Europe/London
BEGIN:DAYLIGHT
TZOFFSETFROM:+0000
TZOFFSETTO:+0100
TZNAME:BST
DTSTART:20240331T010000
END:DAYLIGHT
BEGIN:STANDARD
TZOFFSETFROM:+0100
TZOFFSETTO:+0000
TZNAME:GMT
DTSTART:20241027T010000
END:STANDARD
BEGIN:DAYLIGHT
TZOFFSETFROM:+0000
TZOFFSETTO:+0100
TZNAME:BST
DTSTART:20250330T010000
END:DAYLIGHT
BEGIN:STANDARD
TZOFFSETFROM:+0100
TZOFFSETTO:+0000
TZNAME:GMT
DTSTART:20251026T010000
END:STANDARD
BEGIN:DAYLIGHT
TZOFFSETFROM:+0000
TZOFFSETTO:+0100
TZNAME:BST
DTSTART:20260329T010000
END:DAYLIGHT
BEGIN:STANDARD
TZOFFSETFROM:+0100
TZOFFSETTO:+0000
TZNAME:GMT
DTSTART:20261025T010000
END:STANDARD
END:VTIMEZONE
BEGIN:VEVENT
DTSTART;TZID=Europe/London:20250311T000000
DTEND;TZID=Europe/London:20250311T235959
DTSTAMP:20260422T213116
CREATED:20250214T121607Z
LAST-MODIFIED:20250214T121609Z
UID:12890-1741651200-1741737599@www.waltonpriory.staffs.sch.uk
SUMMARY:Year 7 National Careers Challenge Day
DESCRIPTION:
URL:https://www.waltonpriory.staffs.sch.uk/event/year-7-national-careers-challenge-day/
END:VEVENT
BEGIN:VEVENT
DTSTART;TZID=Europe/London:20250311T153000
DTEND;TZID=Europe/London:20250311T163000
DTSTAMP:20260422T213116
CREATED:20250207T123850Z
LAST-MODIFIED:20250207T123852Z
UID:12861-1741707000-1741710600@www.waltonpriory.staffs.sch.uk
SUMMARY:Wider Family Learning KS2 Workshop
DESCRIPTION:
URL:https://www.waltonpriory.staffs.sch.uk/event/wider-family-learning-ks2-workshop-3/
END:VEVENT
END:VCALENDAR