BEGIN:VCALENDAR
VERSION:2.0
PRODID:-//Walton Priory - ECPv6.15.17//NONSGML v1.0//EN
CALSCALE:GREGORIAN
METHOD:PUBLISH
X-WR-CALNAME:Walton Priory
X-ORIGINAL-URL:https://www.waltonpriory.staffs.sch.uk
X-WR-CALDESC:Events for Walton Priory
REFRESH-INTERVAL;VALUE=DURATION:PT1H
X-Robots-Tag:noindex
X-PUBLISHED-TTL:PT1H
BEGIN:VTIMEZONE
TZID:Europe/London
BEGIN:DAYLIGHT
TZOFFSETFROM:+0000
TZOFFSETTO:+0100
TZNAME:BST
DTSTART:20240331T010000
END:DAYLIGHT
BEGIN:STANDARD
TZOFFSETFROM:+0100
TZOFFSETTO:+0000
TZNAME:GMT
DTSTART:20241027T010000
END:STANDARD
BEGIN:DAYLIGHT
TZOFFSETFROM:+0000
TZOFFSETTO:+0100
TZNAME:BST
DTSTART:20250330T010000
END:DAYLIGHT
BEGIN:STANDARD
TZOFFSETFROM:+0100
TZOFFSETTO:+0000
TZNAME:GMT
DTSTART:20251026T010000
END:STANDARD
BEGIN:DAYLIGHT
TZOFFSETFROM:+0000
TZOFFSETTO:+0100
TZNAME:BST
DTSTART:20260329T010000
END:DAYLIGHT
BEGIN:STANDARD
TZOFFSETFROM:+0100
TZOFFSETTO:+0000
TZNAME:GMT
DTSTART:20261025T010000
END:STANDARD
END:VTIMEZONE
BEGIN:VEVENT
DTSTART;TZID=Europe/London:20250430T080000
DTEND;TZID=Europe/London:20250430T083000
DTSTAMP:20260422T182822
CREATED:20250228T144234Z
LAST-MODIFIED:20250228T144236Z
UID:12942-1746000000-1746001800@www.waltonpriory.staffs.sch.uk
SUMMARY:Y6 SATs Booster Breakfast Club
DESCRIPTION:
URL:https://www.waltonpriory.staffs.sch.uk/event/y6-sats-booster-breakfast-club-7/
END:VEVENT
BEGIN:VEVENT
DTSTART;TZID=Europe/London:20250430T153000
DTEND;TZID=Europe/London:20250430T163000
DTSTAMP:20260422T182822
CREATED:20250210T100115Z
LAST-MODIFIED:20250210T100117Z
UID:12880-1746027000-1746030600@www.waltonpriory.staffs.sch.uk
SUMMARY:Wider Family Learning KS2 Workshop
DESCRIPTION:
URL:https://www.waltonpriory.staffs.sch.uk/event/wider-family-learning-ks2-workshop-11/
END:VEVENT
END:VCALENDAR