BEGIN:VCALENDAR
VERSION:2.0
PRODID:-//Walton Priory - ECPv6.15.17//NONSGML v1.0//EN
CALSCALE:GREGORIAN
METHOD:PUBLISH
X-WR-CALNAME:Walton Priory
X-ORIGINAL-URL:https://www.waltonpriory.staffs.sch.uk
X-WR-CALDESC:Events for Walton Priory
REFRESH-INTERVAL;VALUE=DURATION:PT1H
X-Robots-Tag:noindex
X-PUBLISHED-TTL:PT1H
BEGIN:VTIMEZONE
TZID:Europe/London
BEGIN:DAYLIGHT
TZOFFSETFROM:+0000
TZOFFSETTO:+0100
TZNAME:BST
DTSTART:20240331T010000
END:DAYLIGHT
BEGIN:STANDARD
TZOFFSETFROM:+0100
TZOFFSETTO:+0000
TZNAME:GMT
DTSTART:20241027T010000
END:STANDARD
BEGIN:DAYLIGHT
TZOFFSETFROM:+0000
TZOFFSETTO:+0100
TZNAME:BST
DTSTART:20250330T010000
END:DAYLIGHT
BEGIN:STANDARD
TZOFFSETFROM:+0100
TZOFFSETTO:+0000
TZNAME:GMT
DTSTART:20251026T010000
END:STANDARD
BEGIN:DAYLIGHT
TZOFFSETFROM:+0000
TZOFFSETTO:+0100
TZNAME:BST
DTSTART:20260329T010000
END:DAYLIGHT
BEGIN:STANDARD
TZOFFSETFROM:+0100
TZOFFSETTO:+0000
TZNAME:GMT
DTSTART:20261025T010000
END:STANDARD
END:VTIMEZONE
BEGIN:VEVENT
DTSTART;TZID=Europe/London:20251007T000000
DTEND;TZID=Europe/London:20251007T235959
DTSTAMP:20260422T110111
CREATED:20250915T141102Z
LAST-MODIFIED:20250915T141315Z
UID:13437-1759795200-1759881599@www.waltonpriory.staffs.sch.uk
SUMMARY:Y5 Prime VR - Geography\, North America
DESCRIPTION:Year 5 Prime VR – Geography North America – 7th October 2025 Letter
URL:https://www.waltonpriory.staffs.sch.uk/event/y5-prime-vr-geography-north-america/
END:VEVENT
BEGIN:VEVENT
DTSTART;TZID=Europe/London:20251007T153000
DTEND;TZID=Europe/London:20251007T180000
DTSTAMP:20260422T110111
CREATED:20250923T102637Z
LAST-MODIFIED:20250923T110825Z
UID:13468-1759851000-1759860000@www.waltonpriory.staffs.sch.uk
SUMMARY:Y5 & Y7 Parents' Evening
DESCRIPTION:
URL:https://www.waltonpriory.staffs.sch.uk/event/y5-7-parents-evening/
END:VEVENT
END:VCALENDAR