BEGIN:VCALENDAR
VERSION:2.0
PRODID:-//Walton Priory - ECPv6.15.17//NONSGML v1.0//EN
CALSCALE:GREGORIAN
METHOD:PUBLISH
X-WR-CALNAME:Walton Priory
X-ORIGINAL-URL:https://www.waltonpriory.staffs.sch.uk
X-WR-CALDESC:Events for Walton Priory
REFRESH-INTERVAL;VALUE=DURATION:PT1H
X-Robots-Tag:noindex
X-PUBLISHED-TTL:PT1H
BEGIN:VTIMEZONE
TZID:Europe/London
BEGIN:DAYLIGHT
TZOFFSETFROM:+0000
TZOFFSETTO:+0100
TZNAME:BST
DTSTART:20240331T010000
END:DAYLIGHT
BEGIN:STANDARD
TZOFFSETFROM:+0100
TZOFFSETTO:+0000
TZNAME:GMT
DTSTART:20241027T010000
END:STANDARD
BEGIN:DAYLIGHT
TZOFFSETFROM:+0000
TZOFFSETTO:+0100
TZNAME:BST
DTSTART:20250330T010000
END:DAYLIGHT
BEGIN:STANDARD
TZOFFSETFROM:+0100
TZOFFSETTO:+0000
TZNAME:GMT
DTSTART:20251026T010000
END:STANDARD
BEGIN:DAYLIGHT
TZOFFSETFROM:+0000
TZOFFSETTO:+0100
TZNAME:BST
DTSTART:20260329T010000
END:DAYLIGHT
BEGIN:STANDARD
TZOFFSETFROM:+0100
TZOFFSETTO:+0000
TZNAME:GMT
DTSTART:20261025T010000
END:STANDARD
END:VTIMEZONE
BEGIN:VEVENT
DTSTART;TZID=Europe/London:20251016T160000
DTEND;TZID=Europe/London:20251016T171500
DTSTAMP:20260422T110819
CREATED:20250910T125414Z
LAST-MODIFIED:20250910T125416Z
UID:13389-1760630400-1760634900@www.waltonpriory.staffs.sch.uk
SUMMARY:Y4 Parents' Open Evening
DESCRIPTION:Y4 Parents’ Open Evening				We are proud to invite prospective parents to come and visit our school to get a taste of life at Walton Priory on Thursday 16th October 2025.  We are offering small guided tours starting at 4.00pm and 5.45pm.  Please note: These events are ONLY for parents/carers whose child is in Year 4 between Sept 2025 – July 2026.  When booking your tickets\, you only need to book tickets for the adults attending\, children do not require a ticket to attend.  You can book tickets by clicking here and choosing your preferred time. \nWe are looking forward to meeting you!
URL:https://www.waltonpriory.staffs.sch.uk/event/y4-parents-open-evening-3/
END:VEVENT
BEGIN:VEVENT
DTSTART;TZID=Europe/London:20251016T174500
DTEND;TZID=Europe/London:20251016T190000
DTSTAMP:20260422T110819
CREATED:20250910T125623Z
LAST-MODIFIED:20250910T125625Z
UID:13390-1760636700-1760641200@www.waltonpriory.staffs.sch.uk
SUMMARY:Y4 Parents' Open Evening
DESCRIPTION:Y4 Parents’ Open Evening				We are proud to invite prospective parents to come and visit our school to get a taste of life at Walton Priory on Thursday 17th October 2024.  We are offering small guided tours starting at 4.00pm and 5.45pm.  Please note: These events are ONLY for parents/carers whose child is in Year 4 between Sept 2025 – July 2026.  When booking your tickets\, you only need to book for the adults attending\, children do not require a ticket to attend.  You can book tickets by clicking here and choosing your preferred time. \nWe are looking forward to meeting you!
URL:https://www.waltonpriory.staffs.sch.uk/event/y4-parents-open-evening-4/
END:VEVENT
END:VCALENDAR