BEGIN:VCALENDAR
VERSION:2.0
PRODID:-//Walton Priory - ECPv6.15.17//NONSGML v1.0//EN
CALSCALE:GREGORIAN
METHOD:PUBLISH
X-ORIGINAL-URL:https://www.waltonpriory.staffs.sch.uk
X-WR-CALDESC:Events for Walton Priory
REFRESH-INTERVAL;VALUE=DURATION:PT1H
X-Robots-Tag:noindex
X-PUBLISHED-TTL:PT1H
BEGIN:VTIMEZONE
TZID:Europe/London
BEGIN:DAYLIGHT
TZOFFSETFROM:+0000
TZOFFSETTO:+0100
TZNAME:BST
DTSTART:20230326T010000
END:DAYLIGHT
BEGIN:STANDARD
TZOFFSETFROM:+0100
TZOFFSETTO:+0000
TZNAME:GMT
DTSTART:20231029T010000
END:STANDARD
BEGIN:DAYLIGHT
TZOFFSETFROM:+0000
TZOFFSETTO:+0100
TZNAME:BST
DTSTART:20240331T010000
END:DAYLIGHT
BEGIN:STANDARD
TZOFFSETFROM:+0100
TZOFFSETTO:+0000
TZNAME:GMT
DTSTART:20241027T010000
END:STANDARD
BEGIN:DAYLIGHT
TZOFFSETFROM:+0000
TZOFFSETTO:+0100
TZNAME:BST
DTSTART:20250330T010000
END:DAYLIGHT
BEGIN:STANDARD
TZOFFSETFROM:+0100
TZOFFSETTO:+0000
TZNAME:GMT
DTSTART:20251026T010000
END:STANDARD
BEGIN:DAYLIGHT
TZOFFSETFROM:+0000
TZOFFSETTO:+0100
TZNAME:BST
DTSTART:20260329T010000
END:DAYLIGHT
BEGIN:STANDARD
TZOFFSETFROM:+0100
TZOFFSETTO:+0000
TZNAME:GMT
DTSTART:20261025T010000
END:STANDARD
END:VTIMEZONE
BEGIN:VEVENT
DTSTART;TZID=Europe/London:20241202T000000
DTEND;TZID=Europe/London:20241202T235959
DTSTAMP:20260423T003851
CREATED:20241119T100108Z
LAST-MODIFIED:20241119T100109Z
UID:12607-1733097600-1733183999@www.waltonpriory.staffs.sch.uk
SUMMARY:Own Clothes Day - Donations for Christmas Fair
DESCRIPTION:Year 5 – an unwanted book in good condition \nYear 6 – chocolate (nut free) for a tombola \nYear 7 – a sealed bottle (for a bottle tombola – pupils will need to take care if these are glass and hand them straight in) \nYear 8 – sealed bag/s or tube of sweets (nut free)
URL:https://www.waltonpriory.staffs.sch.uk/event/own-clothes-day-donations-for-christmas-fair/
END:VEVENT
BEGIN:VEVENT
DTSTART;TZID=Europe/London:20241204T000000
DTEND;TZID=Europe/London:20241204T235959
DTSTAMP:20260423T003851
CREATED:20241014T122521Z
LAST-MODIFIED:20241114T091217Z
UID:12480-1733270400-1733356799@www.waltonpriory.staffs.sch.uk
SUMMARY:KS2 Christmas Lunch
DESCRIPTION:
URL:https://www.waltonpriory.staffs.sch.uk/event/y6-silent-disco/
END:VEVENT
BEGIN:VEVENT
DTSTART;TZID=Europe/London:20241205T000000
DTEND;TZID=Europe/London:20241205T235959
DTSTAMP:20260423T003851
CREATED:20241014T122600Z
LAST-MODIFIED:20241114T091305Z
UID:12481-1733356800-1733443199@www.waltonpriory.staffs.sch.uk
SUMMARY:KS3 Christmas Lunch
DESCRIPTION:
URL:https://www.waltonpriory.staffs.sch.uk/event/ks3-silent-disco/
END:VEVENT
BEGIN:VEVENT
DTSTART;TZID=Europe/London:20241206T153000
DTEND;TZID=Europe/London:20241206T164500
DTSTAMP:20260423T003851
CREATED:20241119T101211Z
LAST-MODIFIED:20241119T101213Z
UID:12618-1733499000-1733503500@www.waltonpriory.staffs.sch.uk
SUMMARY:Christmas Fair
DESCRIPTION:
URL:https://www.waltonpriory.staffs.sch.uk/event/christmas-fair-2/
END:VEVENT
BEGIN:VEVENT
DTSTART;TZID=Europe/London:20241210T151500
DTEND;TZID=Europe/London:20241210T203000
DTSTAMP:20260423T003851
CREATED:20241002T083000Z
LAST-MODIFIED:20241003T123539Z
UID:12413-1733843700-1733862600@www.waltonpriory.staffs.sch.uk
SUMMARY:Christmas Choir Concert\, Victoria Hall
DESCRIPTION:
URL:https://www.waltonpriory.staffs.sch.uk/event/chrismas-choir-concert/
END:VEVENT
BEGIN:VEVENT
DTSTART;TZID=Europe/London:20241213T000000
DTEND;TZID=Europe/London:20241213T235959
DTSTAMP:20260423T003851
CREATED:20241119T100343Z
LAST-MODIFIED:20241119T100344Z
UID:12609-1734048000-1734134399@www.waltonpriory.staffs.sch.uk
SUMMARY:Christmas Jumper Day
DESCRIPTION:
URL:https://www.waltonpriory.staffs.sch.uk/event/christmas-jumper-day/
END:VEVENT
BEGIN:VEVENT
DTSTART;TZID=Europe/London:20241213T000000
DTEND;TZID=Europe/London:20241213T235959
DTSTAMP:20260423T003851
CREATED:20241129T101127Z
LAST-MODIFIED:20241129T101129Z
UID:12656-1734048000-1734134399@www.waltonpriory.staffs.sch.uk
SUMMARY:Pantomime Day - KS2 Only
DESCRIPTION:
URL:https://www.waltonpriory.staffs.sch.uk/event/pantomime-day-ks2-only/
END:VEVENT
BEGIN:VEVENT
DTSTART;TZID=Europe/London:20241213T000000
DTEND;TZID=Europe/London:20241219T235959
DTSTAMP:20260423T003851
CREATED:20241119T100508Z
LAST-MODIFIED:20241119T100509Z
UID:12611-1734048000-1734652799@www.waltonpriory.staffs.sch.uk
SUMMARY:Santa Dash (during PE lessons)
DESCRIPTION:
URL:https://www.waltonpriory.staffs.sch.uk/event/santa-dash-during-pe-lessons/
END:VEVENT
BEGIN:VEVENT
DTSTART;TZID=Europe/London:20241219T000000
DTEND;TZID=Europe/London:20241219T235959
DTSTAMP:20260423T003851
CREATED:20241119T100606Z
LAST-MODIFIED:20241119T100607Z
UID:12612-1734566400-1734652799@www.waltonpriory.staffs.sch.uk
SUMMARY:Whole School Enrichment Day
DESCRIPTION:
URL:https://www.waltonpriory.staffs.sch.uk/event/whole-school-enrichment-day/
END:VEVENT
BEGIN:VEVENT
DTSTART;TZID=Europe/London:20241219T000000
DTEND;TZID=Europe/London:20241219T235959
DTSTAMP:20260423T003851
CREATED:20241119T100641Z
LAST-MODIFIED:20241119T100643Z
UID:12615-1734566400-1734652799@www.waltonpriory.staffs.sch.uk
SUMMARY:Non Uniform Day
DESCRIPTION:
URL:https://www.waltonpriory.staffs.sch.uk/event/non-uniform-day-2/
END:VEVENT
BEGIN:VEVENT
DTSTART;TZID=Europe/London:20241220T000000
DTEND;TZID=Europe/London:20241220T235959
DTSTAMP:20260423T003851
CREATED:20241119T101547Z
LAST-MODIFIED:20241119T101549Z
UID:12624-1734652800-1734739199@www.waltonpriory.staffs.sch.uk
SUMMARY:INSET Day
DESCRIPTION:
URL:https://www.waltonpriory.staffs.sch.uk/event/inset-day-9/
END:VEVENT
BEGIN:VEVENT
DTSTART;TZID=Europe/London:20241223T000000
DTEND;TZID=Europe/London:20250103T235959
DTSTAMP:20260423T003851
CREATED:20241119T101637Z
LAST-MODIFIED:20241119T101639Z
UID:12623-1734912000-1735948799@www.waltonpriory.staffs.sch.uk
SUMMARY:Christmas Break
DESCRIPTION:
URL:https://www.waltonpriory.staffs.sch.uk/event/christmas-break-3/
END:VEVENT
END:VCALENDAR