BEGIN:VCALENDAR
VERSION:2.0
PRODID:-//Walton Priory - ECPv6.15.17//NONSGML v1.0//EN
CALSCALE:GREGORIAN
METHOD:PUBLISH
X-ORIGINAL-URL:https://www.waltonpriory.staffs.sch.uk
X-WR-CALDESC:Events for Walton Priory
REFRESH-INTERVAL;VALUE=DURATION:PT1H
X-Robots-Tag:noindex
X-PUBLISHED-TTL:PT1H
BEGIN:VTIMEZONE
TZID:Europe/London
BEGIN:DAYLIGHT
TZOFFSETFROM:+0000
TZOFFSETTO:+0100
TZNAME:BST
DTSTART:20240331T010000
END:DAYLIGHT
BEGIN:STANDARD
TZOFFSETFROM:+0100
TZOFFSETTO:+0000
TZNAME:GMT
DTSTART:20241027T010000
END:STANDARD
BEGIN:DAYLIGHT
TZOFFSETFROM:+0000
TZOFFSETTO:+0100
TZNAME:BST
DTSTART:20250330T010000
END:DAYLIGHT
BEGIN:STANDARD
TZOFFSETFROM:+0100
TZOFFSETTO:+0000
TZNAME:GMT
DTSTART:20251026T010000
END:STANDARD
BEGIN:DAYLIGHT
TZOFFSETFROM:+0000
TZOFFSETTO:+0100
TZNAME:BST
DTSTART:20260329T010000
END:DAYLIGHT
BEGIN:STANDARD
TZOFFSETFROM:+0100
TZOFFSETTO:+0000
TZNAME:GMT
DTSTART:20261025T010000
END:STANDARD
END:VTIMEZONE
BEGIN:VEVENT
DTSTART;TZID=Europe/London:20250207T000000
DTEND;TZID=Europe/London:20250207T235959
DTSTAMP:20260422T213248
CREATED:20250129T153906Z
LAST-MODIFIED:20250129T153908Z
UID:12737-1738886400-1738972799@www.waltonpriory.staffs.sch.uk
SUMMARY:Y6 SEND Coffee Afternoon
DESCRIPTION:
URL:https://www.waltonpriory.staffs.sch.uk/event/y6-send-coffee-afternoon/
END:VEVENT
BEGIN:VEVENT
DTSTART;TZID=Europe/London:20250210T000000
DTEND;TZID=Europe/London:20250210T235959
DTSTAMP:20260422T213248
CREATED:20250129T154009Z
LAST-MODIFIED:20250129T154010Z
UID:12739-1739145600-1739231999@www.waltonpriory.staffs.sch.uk
SUMMARY:KS3 Careers Webinar
DESCRIPTION:
URL:https://www.waltonpriory.staffs.sch.uk/event/ks3-careers-webinar/
END:VEVENT
BEGIN:VEVENT
DTSTART;TZID=Europe/London:20250211T000000
DTEND;TZID=Europe/London:20250211T235959
DTSTAMP:20260422T213248
CREATED:20250129T154109Z
LAST-MODIFIED:20250129T154110Z
UID:12741-1739232000-1739318399@www.waltonpriory.staffs.sch.uk
SUMMARY:KS3 Careers Webinar
DESCRIPTION:
URL:https://www.waltonpriory.staffs.sch.uk/event/ks3-careers-webinar-2/
END:VEVENT
BEGIN:VEVENT
DTSTART;TZID=Europe/London:20250217T080000
DTEND;TZID=Europe/London:20250221T170000
DTSTAMP:20260422T213248
CREATED:20250129T154201Z
LAST-MODIFIED:20250129T154203Z
UID:12743-1739779200-1740157200@www.waltonpriory.staffs.sch.uk
SUMMARY:Half Term
DESCRIPTION:
URL:https://www.waltonpriory.staffs.sch.uk/event/half-term-3/
END:VEVENT
BEGIN:VEVENT
DTSTART;TZID=Europe/London:20250224T000000
DTEND;TZID=Europe/London:20250224T235959
DTSTAMP:20260422T213248
CREATED:20250207T085515Z
LAST-MODIFIED:20250207T085557Z
UID:12834-1740355200-1740441599@www.waltonpriory.staffs.sch.uk
SUMMARY:Pupils Back to School
DESCRIPTION:
URL:https://www.waltonpriory.staffs.sch.uk/event/pupils-back-to-school/
END:VEVENT
BEGIN:VEVENT
DTSTART;TZID=Europe/London:20250225T000000
DTEND;TZID=Europe/London:20250225T235959
DTSTAMP:20260422T213248
CREATED:20250129T152905Z
LAST-MODIFIED:20250129T152906Z
UID:12724-1740441600-1740527999@www.waltonpriory.staffs.sch.uk
SUMMARY:Y6 Geography Workshop - Volcanoes
DESCRIPTION:
URL:https://www.waltonpriory.staffs.sch.uk/event/y6-geography-workshop-volcanoes/
END:VEVENT
BEGIN:VEVENT
DTSTART;TZID=Europe/London:20250225T153000
DTEND;TZID=Europe/London:20250225T163000
DTSTAMP:20260422T213248
CREATED:20250207T122805Z
LAST-MODIFIED:20250207T123010Z
UID:12856-1740497400-1740501000@www.waltonpriory.staffs.sch.uk
SUMMARY:Wider Family Learning KS2 Workshop
DESCRIPTION:
URL:https://www.waltonpriory.staffs.sch.uk/event/wider-family-learning-ks2-workshop/
END:VEVENT
END:VCALENDAR