BEGIN:VCALENDAR
VERSION:2.0
PRODID:-//Walton Priory - ECPv6.15.17//NONSGML v1.0//EN
CALSCALE:GREGORIAN
METHOD:PUBLISH
X-ORIGINAL-URL:https://www.waltonpriory.staffs.sch.uk
X-WR-CALDESC:Events for Walton Priory
REFRESH-INTERVAL;VALUE=DURATION:PT1H
X-Robots-Tag:noindex
X-PUBLISHED-TTL:PT1H
BEGIN:VTIMEZONE
TZID:Europe/London
BEGIN:DAYLIGHT
TZOFFSETFROM:+0000
TZOFFSETTO:+0100
TZNAME:BST
DTSTART:20240331T010000
END:DAYLIGHT
BEGIN:STANDARD
TZOFFSETFROM:+0100
TZOFFSETTO:+0000
TZNAME:GMT
DTSTART:20241027T010000
END:STANDARD
BEGIN:DAYLIGHT
TZOFFSETFROM:+0000
TZOFFSETTO:+0100
TZNAME:BST
DTSTART:20250330T010000
END:DAYLIGHT
BEGIN:STANDARD
TZOFFSETFROM:+0100
TZOFFSETTO:+0000
TZNAME:GMT
DTSTART:20251026T010000
END:STANDARD
BEGIN:DAYLIGHT
TZOFFSETFROM:+0000
TZOFFSETTO:+0100
TZNAME:BST
DTSTART:20260329T010000
END:DAYLIGHT
BEGIN:STANDARD
TZOFFSETFROM:+0100
TZOFFSETTO:+0000
TZNAME:GMT
DTSTART:20261025T010000
END:STANDARD
END:VTIMEZONE
BEGIN:VEVENT
DTSTART;TZID=Europe/London:20250304T153000
DTEND;TZID=Europe/London:20250304T163000
DTSTAMP:20260422T195944
CREATED:20250207T123129Z
LAST-MODIFIED:20250207T123131Z
UID:12862-1741102200-1741105800@www.waltonpriory.staffs.sch.uk
SUMMARY:Wider Family Learning KS2 Workshop
DESCRIPTION:
URL:https://www.waltonpriory.staffs.sch.uk/event/wider-family-learning-ks2-workshop-2/
END:VEVENT
BEGIN:VEVENT
DTSTART;TZID=Europe/London:20250305T000000
DTEND;TZID=Europe/London:20250305T235959
DTSTAMP:20260422T195944
CREATED:20250117T100506Z
LAST-MODIFIED:20250117T100508Z
UID:12716-1741132800-1741219199@www.waltonpriory.staffs.sch.uk
SUMMARY:Careers Day
DESCRIPTION:
URL:https://www.waltonpriory.staffs.sch.uk/event/careers-day/
END:VEVENT
BEGIN:VEVENT
DTSTART;TZID=Europe/London:20250305T080000
DTEND;TZID=Europe/London:20250305T083000
DTSTAMP:20260422T195944
CREATED:20250228T143634Z
LAST-MODIFIED:20250228T143637Z
UID:12930-1741161600-1741163400@www.waltonpriory.staffs.sch.uk
SUMMARY:Y6 SATs Booster Breakfast Club
DESCRIPTION:
URL:https://www.waltonpriory.staffs.sch.uk/event/y6-sats-booster-breakfast-club/
END:VEVENT
BEGIN:VEVENT
DTSTART;TZID=Europe/London:20250307T000000
DTEND;TZID=Europe/London:20250307T235959
DTSTAMP:20260422T195944
CREATED:20250120T085741Z
LAST-MODIFIED:20250120T085742Z
UID:12718-1741305600-1741391999@www.waltonpriory.staffs.sch.uk
SUMMARY:World Book Day
DESCRIPTION:
URL:https://www.waltonpriory.staffs.sch.uk/event/world-book-day-2/
END:VEVENT
BEGIN:VEVENT
DTSTART;TZID=Europe/London:20250311T000000
DTEND;TZID=Europe/London:20250311T235959
DTSTAMP:20260422T195944
CREATED:20250214T121607Z
LAST-MODIFIED:20250214T121609Z
UID:12890-1741651200-1741737599@www.waltonpriory.staffs.sch.uk
SUMMARY:Year 7 National Careers Challenge Day
DESCRIPTION:
URL:https://www.waltonpriory.staffs.sch.uk/event/year-7-national-careers-challenge-day/
END:VEVENT
BEGIN:VEVENT
DTSTART;TZID=Europe/London:20250311T153000
DTEND;TZID=Europe/London:20250311T163000
DTSTAMP:20260422T195944
CREATED:20250207T123850Z
LAST-MODIFIED:20250207T123852Z
UID:12861-1741707000-1741710600@www.waltonpriory.staffs.sch.uk
SUMMARY:Wider Family Learning KS2 Workshop
DESCRIPTION:
URL:https://www.waltonpriory.staffs.sch.uk/event/wider-family-learning-ks2-workshop-3/
END:VEVENT
BEGIN:VEVENT
DTSTART;TZID=Europe/London:20250312T080000
DTEND;TZID=Europe/London:20250312T083000
DTSTAMP:20260422T195944
CREATED:20250228T143739Z
LAST-MODIFIED:20250228T143740Z
UID:12932-1741766400-1741768200@www.waltonpriory.staffs.sch.uk
SUMMARY:Y6 SATs Booster Breakfast Club
DESCRIPTION:
URL:https://www.waltonpriory.staffs.sch.uk/event/y6-sats-booster-breakfast-club-2/
END:VEVENT
BEGIN:VEVENT
DTSTART;TZID=Europe/London:20250314T000000
DTEND;TZID=Europe/London:20250314T235959
DTSTAMP:20260422T195944
CREATED:20250129T152750Z
LAST-MODIFIED:20250129T152751Z
UID:12725-1741910400-1741996799@www.waltonpriory.staffs.sch.uk
SUMMARY:Y8 Black Country Museum
DESCRIPTION:
URL:https://www.waltonpriory.staffs.sch.uk/event/y8-black-country-museum/
END:VEVENT
BEGIN:VEVENT
DTSTART;TZID=Europe/London:20250318T153000
DTEND;TZID=Europe/London:20250318T163000
DTSTAMP:20260422T195944
CREATED:20250207T124409Z
LAST-MODIFIED:20250207T124411Z
UID:12860-1742311800-1742315400@www.waltonpriory.staffs.sch.uk
SUMMARY:Wider Family Learning KS2 Workshop
DESCRIPTION:
URL:https://www.waltonpriory.staffs.sch.uk/event/wider-family-learning-ks2-workshop-5/
END:VEVENT
BEGIN:VEVENT
DTSTART;TZID=Europe/London:20250319T080000
DTEND;TZID=Europe/London:20250319T083000
DTSTAMP:20260422T195944
CREATED:20250228T143830Z
LAST-MODIFIED:20250228T143832Z
UID:12934-1742371200-1742373000@www.waltonpriory.staffs.sch.uk
SUMMARY:Y6 SATs Booster Breakfast Club
DESCRIPTION:
URL:https://www.waltonpriory.staffs.sch.uk/event/y6-sats-booster-breakfast-club-3/
END:VEVENT
BEGIN:VEVENT
DTSTART;TZID=Europe/London:20250325T153000
DTEND;TZID=Europe/London:20250325T163000
DTSTAMP:20260422T195944
CREATED:20250207T124619Z
LAST-MODIFIED:20250207T124620Z
UID:12867-1742916600-1742920200@www.waltonpriory.staffs.sch.uk
SUMMARY:Wider Family Learning KS2 Workshop
DESCRIPTION:
URL:https://www.waltonpriory.staffs.sch.uk/event/wider-family-learning-ks2-workshop-6/
END:VEVENT
BEGIN:VEVENT
DTSTART;TZID=Europe/London:20250326T080000
DTEND;TZID=Europe/London:20250326T083000
DTSTAMP:20260422T195944
CREATED:20250228T143931Z
LAST-MODIFIED:20250228T143933Z
UID:12936-1742976000-1742977800@www.waltonpriory.staffs.sch.uk
SUMMARY:Y6 SATs Booster Breakfast Club
DESCRIPTION:
URL:https://www.waltonpriory.staffs.sch.uk/event/y6-sats-booster-breakfast-club-4/
END:VEVENT
BEGIN:VEVENT
DTSTART;TZID=Europe/London:20250331T000000
DTEND;TZID=Europe/London:20250331T235959
DTSTAMP:20260422T195944
CREATED:20250212T083239Z
LAST-MODIFIED:20250212T083639Z
UID:12884-1743379200-1743465599@www.waltonpriory.staffs.sch.uk
SUMMARY:Danceathon 2025
DESCRIPTION:
URL:https://www.waltonpriory.staffs.sch.uk/event/danceathon-2025/
END:VEVENT
END:VCALENDAR