BEGIN:VCALENDAR
VERSION:2.0
PRODID:-//Walton Priory - ECPv6.15.17//NONSGML v1.0//EN
CALSCALE:GREGORIAN
METHOD:PUBLISH
X-ORIGINAL-URL:https://www.waltonpriory.staffs.sch.uk
X-WR-CALDESC:Events for Walton Priory
REFRESH-INTERVAL;VALUE=DURATION:PT1H
X-Robots-Tag:noindex
X-PUBLISHED-TTL:PT1H
BEGIN:VTIMEZONE
TZID:Europe/London
BEGIN:DAYLIGHT
TZOFFSETFROM:+0000
TZOFFSETTO:+0100
TZNAME:BST
DTSTART:20240331T010000
END:DAYLIGHT
BEGIN:STANDARD
TZOFFSETFROM:+0100
TZOFFSETTO:+0000
TZNAME:GMT
DTSTART:20241027T010000
END:STANDARD
BEGIN:DAYLIGHT
TZOFFSETFROM:+0000
TZOFFSETTO:+0100
TZNAME:BST
DTSTART:20250330T010000
END:DAYLIGHT
BEGIN:STANDARD
TZOFFSETFROM:+0100
TZOFFSETTO:+0000
TZNAME:GMT
DTSTART:20251026T010000
END:STANDARD
BEGIN:DAYLIGHT
TZOFFSETFROM:+0000
TZOFFSETTO:+0100
TZNAME:BST
DTSTART:20260329T010000
END:DAYLIGHT
BEGIN:STANDARD
TZOFFSETFROM:+0100
TZOFFSETTO:+0000
TZNAME:GMT
DTSTART:20261025T010000
END:STANDARD
END:VTIMEZONE
BEGIN:VEVENT
DTSTART;TZID=Europe/London:20250506T153000
DTEND;TZID=Europe/London:20250506T163000
DTSTAMP:20260422T165712
CREATED:20250207T123932Z
LAST-MODIFIED:20250207T123934Z
UID:12859-1746545400-1746549000@www.waltonpriory.staffs.sch.uk
SUMMARY:Wider Family Learning KS2 Workshop
DESCRIPTION:
URL:https://www.waltonpriory.staffs.sch.uk/event/wider-family-learning-ks2-workshop-4/
END:VEVENT
BEGIN:VEVENT
DTSTART;TZID=Europe/London:20250507T000000
DTEND;TZID=Europe/London:20250507T235959
DTSTAMP:20260422T165712
CREATED:20250129T153304Z
LAST-MODIFIED:20250129T153305Z
UID:12729-1746576000-1746662399@www.waltonpriory.staffs.sch.uk
SUMMARY:7BB/7EP/7CW Bosworth Battlefield
DESCRIPTION:
URL:https://www.waltonpriory.staffs.sch.uk/event/7bb-7ep-7cw-bosworth-battlefield/
END:VEVENT
BEGIN:VEVENT
DTSTART;TZID=Europe/London:20250507T080000
DTEND;TZID=Europe/London:20250507T083000
DTSTAMP:20260422T165712
CREATED:20250228T144314Z
LAST-MODIFIED:20250228T144316Z
UID:12944-1746604800-1746606600@www.waltonpriory.staffs.sch.uk
SUMMARY:Y6 SATs Booster Breakfast Club
DESCRIPTION:
URL:https://www.waltonpriory.staffs.sch.uk/event/y6-sats-booster-breakfast-club-8/
END:VEVENT
BEGIN:VEVENT
DTSTART;TZID=Europe/London:20250509T000000
DTEND;TZID=Europe/London:20250509T235959
DTSTAMP:20260422T165712
CREATED:20250129T153356Z
LAST-MODIFIED:20250129T153357Z
UID:12733-1746748800-1746835199@www.waltonpriory.staffs.sch.uk
SUMMARY:7AC/7AW/7LB Bosworth Battlefield
DESCRIPTION:
URL:https://www.waltonpriory.staffs.sch.uk/event/7ac-7aw-7lb-bosworth-battlefield/
END:VEVENT
END:VCALENDAR