BEGIN:VCALENDAR
VERSION:2.0
PRODID:-//Walton Priory - ECPv6.15.17//NONSGML v1.0//EN
CALSCALE:GREGORIAN
METHOD:PUBLISH
X-WR-CALNAME:Walton Priory
X-ORIGINAL-URL:https://www.waltonpriory.staffs.sch.uk
X-WR-CALDESC:Events for Walton Priory
REFRESH-INTERVAL;VALUE=DURATION:PT1H
X-Robots-Tag:noindex
X-PUBLISHED-TTL:PT1H
BEGIN:VTIMEZONE
TZID:Europe/London
BEGIN:DAYLIGHT
TZOFFSETFROM:+0000
TZOFFSETTO:+0100
TZNAME:BST
DTSTART:20240331T010000
END:DAYLIGHT
BEGIN:STANDARD
TZOFFSETFROM:+0100
TZOFFSETTO:+0000
TZNAME:GMT
DTSTART:20241027T010000
END:STANDARD
BEGIN:DAYLIGHT
TZOFFSETFROM:+0000
TZOFFSETTO:+0100
TZNAME:BST
DTSTART:20250330T010000
END:DAYLIGHT
BEGIN:STANDARD
TZOFFSETFROM:+0100
TZOFFSETTO:+0000
TZNAME:GMT
DTSTART:20251026T010000
END:STANDARD
BEGIN:DAYLIGHT
TZOFFSETFROM:+0000
TZOFFSETTO:+0100
TZNAME:BST
DTSTART:20260329T010000
END:DAYLIGHT
BEGIN:STANDARD
TZOFFSETFROM:+0100
TZOFFSETTO:+0000
TZNAME:GMT
DTSTART:20261025T010000
END:STANDARD
END:VTIMEZONE
BEGIN:VEVENT
DTSTART;TZID=Europe/London:20251003T141500
DTEND;TZID=Europe/London:20251003T151500
DTSTAMP:20260422T094201
CREATED:20250923T102506Z
LAST-MODIFIED:20250926T131430Z
UID:13466-1759500900-1759504500@www.waltonpriory.staffs.sch.uk
SUMMARY:Y5 SEND Coffee Afternoon
DESCRIPTION:
URL:https://www.waltonpriory.staffs.sch.uk/event/y5-send-coffee-afternoon/
END:VEVENT
BEGIN:VEVENT
DTSTART;TZID=Europe/London:20251007T000000
DTEND;TZID=Europe/London:20251007T235959
DTSTAMP:20260422T094201
CREATED:20250915T141102Z
LAST-MODIFIED:20250915T141315Z
UID:13437-1759795200-1759881599@www.waltonpriory.staffs.sch.uk
SUMMARY:Y5 Prime VR - Geography\, North America
DESCRIPTION:Year 5 Prime VR – Geography North America – 7th October 2025 Letter
URL:https://www.waltonpriory.staffs.sch.uk/event/y5-prime-vr-geography-north-america/
END:VEVENT
BEGIN:VEVENT
DTSTART;TZID=Europe/London:20251007T153000
DTEND;TZID=Europe/London:20251007T180000
DTSTAMP:20260422T094201
CREATED:20250923T102637Z
LAST-MODIFIED:20250923T110825Z
UID:13468-1759851000-1759860000@www.waltonpriory.staffs.sch.uk
SUMMARY:Y5 & Y7 Parents' Evening
DESCRIPTION:
URL:https://www.waltonpriory.staffs.sch.uk/event/y5-7-parents-evening/
END:VEVENT
BEGIN:VEVENT
DTSTART;TZID=Europe/London:20251009T153000
DTEND;TZID=Europe/London:20251009T180000
DTSTAMP:20260422T094201
CREATED:20250923T102712Z
LAST-MODIFIED:20250923T110841Z
UID:13470-1760023800-1760032800@www.waltonpriory.staffs.sch.uk
SUMMARY:Y5 & Y7 Parents' Evening
DESCRIPTION:
URL:https://www.waltonpriory.staffs.sch.uk/event/y5-7-parents-evening-2/
END:VEVENT
BEGIN:VEVENT
DTSTART;TZID=Europe/London:20251010T000000
DTEND;TZID=Europe/London:20251010T235959
DTSTAMP:20260422T094201
CREATED:20250923T102740Z
LAST-MODIFIED:20250923T102741Z
UID:13472-1760054400-1760140799@www.waltonpriory.staffs.sch.uk
SUMMARY:World Mental Health Day
DESCRIPTION:
URL:https://www.waltonpriory.staffs.sch.uk/event/world-mental-health-day/
END:VEVENT
BEGIN:VEVENT
DTSTART;TZID=Europe/London:20251014T000000
DTEND;TZID=Europe/London:20251014T235959
DTSTAMP:20260422T094201
CREATED:20250923T102953Z
LAST-MODIFIED:20250923T131500Z
UID:13474-1760400000-1760486399@www.waltonpriory.staffs.sch.uk
SUMMARY:7GC/7WP Rivers Visit
DESCRIPTION:
URL:https://www.waltonpriory.staffs.sch.uk/event/y7-rivers-visit/
END:VEVENT
BEGIN:VEVENT
DTSTART;TZID=Europe/London:20251014T153000
DTEND;TZID=Europe/London:20251014T180000
DTSTAMP:20260422T094201
CREATED:20250919T100859Z
LAST-MODIFIED:20250919T100859Z
UID:13452-1760455800-1760464800@www.waltonpriory.staffs.sch.uk
SUMMARY:Second Hand School Uniform Sale
DESCRIPTION:
URL:https://www.waltonpriory.staffs.sch.uk/event/second-hand-school-uniform-sale-2/
END:VEVENT
BEGIN:VEVENT
DTSTART;TZID=Europe/London:20251016T160000
DTEND;TZID=Europe/London:20251016T171500
DTSTAMP:20260422T094201
CREATED:20250910T125414Z
LAST-MODIFIED:20250910T125416Z
UID:13389-1760630400-1760634900@www.waltonpriory.staffs.sch.uk
SUMMARY:Y4 Parents' Open Evening
DESCRIPTION:Y4 Parents’ Open Evening				We are proud to invite prospective parents to come and visit our school to get a taste of life at Walton Priory on Thursday 16th October 2025.  We are offering small guided tours starting at 4.00pm and 5.45pm.  Please note: These events are ONLY for parents/carers whose child is in Year 4 between Sept 2025 – July 2026.  When booking your tickets\, you only need to book tickets for the adults attending\, children do not require a ticket to attend.  You can book tickets by clicking here and choosing your preferred time. \nWe are looking forward to meeting you!
URL:https://www.waltonpriory.staffs.sch.uk/event/y4-parents-open-evening-3/
END:VEVENT
BEGIN:VEVENT
DTSTART;TZID=Europe/London:20251016T174500
DTEND;TZID=Europe/London:20251016T190000
DTSTAMP:20260422T094201
CREATED:20250910T125623Z
LAST-MODIFIED:20250910T125625Z
UID:13390-1760636700-1760641200@www.waltonpriory.staffs.sch.uk
SUMMARY:Y4 Parents' Open Evening
DESCRIPTION:Y4 Parents’ Open Evening				We are proud to invite prospective parents to come and visit our school to get a taste of life at Walton Priory on Thursday 17th October 2024.  We are offering small guided tours starting at 4.00pm and 5.45pm.  Please note: These events are ONLY for parents/carers whose child is in Year 4 between Sept 2025 – July 2026.  When booking your tickets\, you only need to book for the adults attending\, children do not require a ticket to attend.  You can book tickets by clicking here and choosing your preferred time. \nWe are looking forward to meeting you!
URL:https://www.waltonpriory.staffs.sch.uk/event/y4-parents-open-evening-4/
END:VEVENT
BEGIN:VEVENT
DTSTART;TZID=Europe/London:20251017T000000
DTEND;TZID=Europe/London:20251017T235959
DTSTAMP:20260422T094201
CREATED:20250923T103025Z
LAST-MODIFIED:20250923T131619Z
UID:13476-1760659200-1760745599@www.waltonpriory.staffs.sch.uk
SUMMARY:7LM/7MCo/7SB Rivers Visit
DESCRIPTION:
URL:https://www.waltonpriory.staffs.sch.uk/event/y7-rivers-visit-2/
END:VEVENT
BEGIN:VEVENT
DTSTART;TZID=Europe/London:20251017T000000
DTEND;TZID=Europe/London:20251017T235959
DTSTAMP:20260422T094201
CREATED:20250923T103058Z
LAST-MODIFIED:20250923T103059Z
UID:13478-1760659200-1760745599@www.waltonpriory.staffs.sch.uk
SUMMARY:Show Racism the Red Card
DESCRIPTION:
URL:https://www.waltonpriory.staffs.sch.uk/event/show-racism-the-red-card/
END:VEVENT
BEGIN:VEVENT
DTSTART;TZID=Europe/London:20251022T000000
DTEND;TZID=Europe/London:20251022T235959
DTSTAMP:20260422T094201
CREATED:20250923T103149Z
LAST-MODIFIED:20250923T103150Z
UID:13480-1761091200-1761177599@www.waltonpriory.staffs.sch.uk
SUMMARY:Parent Meeting for School Production
DESCRIPTION:
URL:https://www.waltonpriory.staffs.sch.uk/event/parent-meeting-for-school-production/
END:VEVENT
BEGIN:VEVENT
DTSTART;TZID=Europe/London:20251023T170000
DTEND;TZID=Europe/London:20251023T183000
DTSTAMP:20260422T094201
CREATED:20250923T103226Z
LAST-MODIFIED:20251010T092217Z
UID:13482-1761238800-1761244200@www.waltonpriory.staffs.sch.uk
SUMMARY:Y7 Halloween Disco
DESCRIPTION:
URL:https://www.waltonpriory.staffs.sch.uk/event/y7-halloween-disco/
END:VEVENT
END:VCALENDAR